BEGIN:VCALENDAR
PRODID:-//kirchenweb.ch gmbh//veranstaltungsausgabe v2.0//DE
VERSION:2.0
METHOD:PUBLISH
BEGIN:VEVENT
DTSTART:20251116T180000Z
DTEND:20251116T190000Z
LOCATION:Kornfeldkirche\, Kornfeldstr. 51\, 4125 Riehen
TRANSP:OPAQUE
SEQUENCE:0
UID:205764-veranstaltung@erk-bs.ch
DTSTAMP:20250121T072819Z
DESCRIPTION:Kontakt: rahel.probst@erk-bs.ch\n\nWeitere Infos:
  https://www.erk-bs.ch/veranstaltung/205764
SUMMARY:Taizé Abendgebet
PRIORITY:5
X-MICROSOFT-CDO-IMPORTANCE:1
CLASS:PUBLIC
END:VEVENT
END:VCALENDAR
