BEGIN:VCALENDAR
PRODID:-//kirchenweb.ch gmbh//veranstaltungsausgabe v2.0//DE
VERSION:2.0
METHOD:PUBLISH
BEGIN:VEVENT
DTSTART:20261130T170000Z
DTEND:20261130T173000Z
LOCATION:Münster\, Münsterplatz 9\, 4051 Basel
TRANSP:OPAQUE
SEQUENCE:0
UID:206503-veranstaltung@erk-bs.ch
DTSTAMP:20250206T102658Z
DESCRIPTION:Parallel zum Weihnachtsmarkt auf dem Münsterplatz finden
  unter der Woche von Montag bis Donnerstag\, jeweils um 18.00 Uhr\, die
  Taizégebete im Advent statt.\n\nweitere Termine: \n\nKontakt: Pfrn. C.
  Schröder Field\n\nWeitere Infos:
  https://www.erk-bs.ch/veranstaltung/206503
SUMMARY:Advent im Münster\, mit Taizéliedern
PRIORITY:5
X-MICROSOFT-CDO-IMPORTANCE:1
CLASS:PUBLIC
END:VEVENT
END:VCALENDAR
