BEGIN:VCALENDAR
PRODID:-//kirchenweb.ch gmbh//veranstaltungsausgabe v2.0//DE
VERSION:2.0
METHOD:PUBLISH
BEGIN:VEVENT
DTSTART:20270326T170000Z
DTEND:20270326T180000Z
LOCATION:Münster\, Münsterplatz\, 4051 Basel
TRANSP:OPAQUE
SEQUENCE:0
UID:206736-veranstaltung@erk-bs.ch
DTSTAMP:20250625T071202Z
DESCRIPTION:weitere Informationen unter http://muensterkantorei.ch/\n
 \nKontakt: sandra.schmied@erk-bs.ch\n\nWeitere Infos:
  https://www.erk-bs.ch/veranstaltung/206736
SUMMARY:Konzert der Basler Münsterkantorei
PRIORITY:5
X-MICROSOFT-CDO-IMPORTANCE:1
CLASS:PUBLIC
END:VEVENT
END:VCALENDAR
