BEGIN:VCALENDAR
PRODID:-//kirchenweb.ch gmbh//veranstaltungsausgabe v2.0//DE
VERSION:2.0
METHOD:PUBLISH
BEGIN:VEVENT
DTSTART:20270325T183000Z
DTEND:20270325T193000Z
LOCATION:Münster\, Münsterplatz\, 4051 Basel
TRANSP:OPAQUE
SEQUENCE:0
UID:206739-veranstaltung@erk-bs.ch
DTSTAMP:20260309T133338Z
DESCRIPTION:weitere Informationen unter http://muensterkantorei.ch/\n
 \nKontakt: sandra.schmied@erk-bs.ch\n\nWeitere Infos:
  https://www.erk-bs.ch/veranstaltung/206739
SUMMARY:Konzert der Basler Münsterkantorei
PRIORITY:5
X-MICROSOFT-CDO-IMPORTANCE:1
CLASS:PUBLIC
END:VEVENT
END:VCALENDAR
