BEGIN:VCALENDAR
PRODID:-//kirchenweb.ch gmbh//veranstaltungsausgabe v2.0//DE
VERSION:2.0
METHOD:PUBLISH
BEGIN:VEVENT
DTSTART:20260925T173000Z
DTEND:20260925T210000Z
LOCATION:Jugendraum\, Augustinergasse 11\, 4051 Basel
TRANSP:OPAQUE
SEQUENCE:0
UID:206751-veranstaltung@erk-bs.ch
DTSTAMP:20260302T095126Z
DESCRIPTION:Wir treffen uns jeweils am letzten Freitag des Monats.\nWer
  ist dabei?\nKonfirmierte Jugendliche am Münster\, junge Erwachsene und
  gleichaltrige Kolleg*innen\, Freund*innen - wer kommen mag.\n\nUnsere
  Treffen starten um 19.30 Uhr jeweils am letzten Freitag im Monat –
  ausser in den Schulferien. Wer will\, kann auch später dazu kommen.
  Unsere Homebase ist der Jugendraum Augustinergasse 11. Manchmal sind wir
  auch unterwegs z.B. am Münster oder draussen. Wo wir uns genau treffen\,
  geben wir immer in unserem Chat «Jugend am Münster» bekannt.\n\n\n
 \nKontakt: Lena Brunner\, Jugendarbeit\n\n\nWeitere Infos:
  https://www.erk-bs.ch/veranstaltung/206751
SUMMARY:Freitagstreff für Jugendliche nach der Konfirmation
PRIORITY:5
X-MICROSOFT-CDO-IMPORTANCE:1
CLASS:PUBLIC
END:VEVENT
END:VCALENDAR
