BEGIN:VCALENDAR
PRODID:-//kirchenweb.ch gmbh//veranstaltungsausgabe v2.0//DE
VERSION:2.0
METHOD:PUBLISH
BEGIN:VEVENT
DTSTART:20251018T080000Z
DTEND:20251018T140000Z
LOCATION:Kirche Bettingen\, Brohegasse 3\, 4126 Bettingen
TRANSP:OPAQUE
SEQUENCE:0
UID:206899-veranstaltung@erk-bs.ch
DTSTAMP:20250828T150046Z
DESCRIPTION:Kontakt: Heidi & Patrick Gerber\n\nWeitere Infos:
  https://www.erk-bs.ch/veranstaltung/206899
SUMMARY:Bettinger Herbstfest - Bauernhof Bettingen
PRIORITY:5
X-MICROSOFT-CDO-IMPORTANCE:1
CLASS:PUBLIC
END:VEVENT
END:VCALENDAR
