BEGIN:VCALENDAR
PRODID:-//kirchenweb.ch gmbh//veranstaltungsausgabe v2.0//DE
VERSION:2.0
METHOD:PUBLISH
BEGIN:VEVENT
DTSTART:20260528T050500Z
DTEND:20260528T053000Z
LOCATION:Katharinakapelle\, Kreuzgang\, Münsterplatz 9\, 4051 Basel
TRANSP:OPAQUE
SEQUENCE:0
UID:207774-veranstaltung@erk-bs.ch
DTSTAMP:20250212T153910Z
DESCRIPTION:Kontakt: Sr. Esther\n\nWeitere Infos:
  https://www.erk-bs.ch/veranstaltung/207774
SUMMARY:Morgengebet
PRIORITY:5
X-MICROSOFT-CDO-IMPORTANCE:1
CLASS:PUBLIC
END:VEVENT
END:VCALENDAR
