BEGIN:VCALENDAR
PRODID:-//kirchenweb.ch gmbh//veranstaltungsausgabe v2.0//DE
VERSION:2.0
METHOD:PUBLISH
BEGIN:VEVENT
DTSTART:20260807T110000Z
DTEND:20260807T140000Z
LOCATION:Münster\, Münsterplatz 9\, 4051 Basel
TRANSP:OPAQUE
SEQUENCE:0
UID:208068-veranstaltung@erk-bs.ch
DTSTAMP:20250212T161007Z
DESCRIPTION:Wir sind für Sie da! Möchten Sie sich mit jemandem
  austauschen\, wollen Sie sich eine Sache von der Seele reden\, Ihr Herz
  ausschütten oder Ihre Freude teilen? Dann kommen Sie ins Münster.
  Jeweils von Mittwoch- bis Samstagnachmittag finden Sie jemanden von
  unseren freiwilligen Mitarbeitenden im Münster.\n\n\nKontakt:
  sandra.schmied@erk-bs.ch\n\nWeitere Infos:
  https://www.erk-bs.ch/veranstaltung/208068
SUMMARY:Offene Ohren im Münster
PRIORITY:5
X-MICROSOFT-CDO-IMPORTANCE:1
CLASS:PUBLIC
END:VEVENT
END:VCALENDAR
