BEGIN:VCALENDAR
PRODID:-//kirchenweb.ch gmbh//veranstaltungsausgabe v2.0//DE
VERSION:2.0
METHOD:PUBLISH
BEGIN:VEVENT
DTSTART:20260501T103000Z
DTEND:20260501T111500Z
LOCATION:Münster\, Münsterplatz 9\, 4051 Basel
TRANSP:OPAQUE
SEQUENCE:0
UID:208234-veranstaltung@erk-bs.ch
DTSTAMP:20260410T092422Z
DESCRIPTION:Die Evangelisch-reformierte Kirche lädt die Basler
  Bevölkerung herzlich zum Offenen Singen ins Basler Münster ein.\nWer
  gerne singt oder anderen beim Singen zuhört\, ist ohne Anmeldung oder
  weitere Formalitäten herzlich willkommen.\n"Singen über Mittag" findet
  jeweils am ersten Freitag im Monat von 12.30-13.15 statt.\n\n Ihre
  Gastgeber\n Pfrn. Caroline Schröder Field und Team\n\nweitere Termine: 
 \n\nKontakt: Pfrn. Caroline Schröder Field\n\nWeitere Infos:
  https://www.erk-bs.ch/veranstaltung/208234
SUMMARY:Offenes Singen über Mittag
PRIORITY:5
X-MICROSOFT-CDO-IMPORTANCE:1
CLASS:PUBLIC
END:VEVENT
END:VCALENDAR
