BEGIN:VCALENDAR
PRODID:-//kirchenweb.ch gmbh//veranstaltungsausgabe v2.0//DE
VERSION:2.0
METHOD:PUBLISH
BEGIN:VEVENT
DTSTART:20260713T160000Z
DTEND:20260713T163000Z
LOCATION:Münster\, Münsterplatz 9\, 4051 Basel
TRANSP:OPAQUE
SEQUENCE:0
UID:208250-veranstaltung@erk-bs.ch
DTSTAMP:20251117T122113Z
DESCRIPTION:Ökumenisches Abendgebet für die Stadt Basel\nam Gedenktag
  der Heiligen Heinrich und Kunigunde\n\nMit Musik aus dem 11. Jahrhundert
  vom Ensemble La Fiamma\nanschliessend Apéro auf der Pfalz oder im
  Münstersaal\n\n\nKontakt: Pfr. Lukas Kundert\n\nWeitere Infos:
  https://www.erk-bs.ch/veranstaltung/208250
SUMMARY:Ökumenisches Abendgebet für die Stadt Basel
PRIORITY:5
X-MICROSOFT-CDO-IMPORTANCE:1
CLASS:PUBLIC
END:VEVENT
END:VCALENDAR
