BEGIN:VCALENDAR
PRODID:-//kirchenweb.ch gmbh//veranstaltungsausgabe v2.0//DE
VERSION:2.0
METHOD:PUBLISH
BEGIN:VEVENT
DTSTART:20260815T100000Z
DTEND:20260815T103000Z
LOCATION:Münster\, Münsterplatz 9\, 4051 Basel
TRANSP:OPAQUE
SEQUENCE:0
UID:208628-veranstaltung@erk-bs.ch
DTSTAMP:20250618T094712Z
DESCRIPTION:Erleben Sie die grösste und vielseitigste Orgel Basels!\n
 \nMünsterorganist Andreas Liebig und internationale Gäste spielen an der
  Mathis-Orgel (78/IV/P) von 2003.\nweitere Informationen unter:
  http://www.basler-muensterkonzerte.ch\n\nweitere Termine:\n\n\n\n
 \nKontakt: Münsterorganist Andreas Liebig\n\nWeitere Infos:
  https://www.erk-bs.ch/veranstaltung/208628
SUMMARY:Orgel.Punkt 12
PRIORITY:5
X-MICROSOFT-CDO-IMPORTANCE:1
CLASS:PUBLIC
END:VEVENT
END:VCALENDAR
