BEGIN:VCALENDAR
PRODID:-//kirchenweb.ch gmbh//veranstaltungsausgabe v2.0//DE
VERSION:2.0
METHOD:PUBLISH
BEGIN:VEVENT
DTSTART:20260913T090000Z
DTEND:20260913T103000Z
LOCATION:Münstersaal\, Bischofshof\, Rittergasse 1\, 4051 Basel
TRANSP:OPAQUE
SEQUENCE:0
UID:208865-veranstaltung@erk-bs.ch
DTSTAMP:20260330T073335Z
DESCRIPTION:Im Anschluss an den Gottesdienst findet eine grosse Teilete im
  Münstersaal des Bischofshofes statt. Gaben für die Teilete können vor
  dem Gottesdienst im Münster abgegeben werden. Freiwillige\, die
  mithelfen möchten\, melden sich bitte direkt bei Urs Schneider:
  http://u.m.schneider@bluewin.ch\n\nKontakt: sandra.schmied@erk-bs.ch\n
 \nWeitere Infos: https://www.erk-bs.ch/veranstaltung/208865
SUMMARY:Teilete im Münstersaal
PRIORITY:5
X-MICROSOFT-CDO-IMPORTANCE:1
CLASS:PUBLIC
END:VEVENT
END:VCALENDAR
