BEGIN:VCALENDAR
PRODID:-//kirchenweb.ch gmbh//veranstaltungsausgabe v2.0//DE
VERSION:2.0
METHOD:PUBLISH
BEGIN:VEVENT
DTSTART:20261213T170000Z
DTEND:20261213T180000Z
LOCATION:Münster\, Münsterplatz 9\, 4051 Basel
TRANSP:OPAQUE
SEQUENCE:0
UID:209273-veranstaltung@erk-bs.ch
DTSTAMP:20250618T131815Z
DESCRIPTION:weitere Informationen unter:
  http://www.basler-muensterkonzerte.ch\nweitere Termine:\n\n\n\n\nKontakt:
  Münsterorganist Andreas Liebig\n\nWeitere Infos:
  https://www.erk-bs.ch/veranstaltung/209273
SUMMARY:Internationales Orgelkonzert im Basler Münster
PRIORITY:5
X-MICROSOFT-CDO-IMPORTANCE:1
CLASS:PUBLIC
END:VEVENT
END:VCALENDAR
