BEGIN:VCALENDAR
PRODID:-//kirchenweb.ch gmbh//veranstaltungsausgabe v2.0//DE
VERSION:2.0
METHOD:PUBLISH
BEGIN:VEVENT
DTSTART:20260728T173000Z
DTEND:20260728T190000Z
LOCATION:Münster\, Münsterplatz 9\, 4051 Basel
TRANSP:OPAQUE
SEQUENCE:0
UID:209275-veranstaltung@erk-bs.ch
DTSTAMP:20250618T145548Z
DESCRIPTION:weitere Informationen unter:
  http://www.basler-muensterkonzerte.ch\nweitere Termine:\n\n\n\n\nKontakt:
  Münsterorganist Andreas Liebig\n\nWeitere Infos:
  https://www.erk-bs.ch/veranstaltung/209275
SUMMARY:BACH in BASEL - Gedenkkonzert zum 276. Todestag
PRIORITY:5
X-MICROSOFT-CDO-IMPORTANCE:1
CLASS:PUBLIC
END:VEVENT
END:VCALENDAR
