BEGIN:VCALENDAR
PRODID:-//kirchenweb.ch gmbh//veranstaltungsausgabe v2.0//DE
VERSION:2.0
METHOD:PUBLISH
BEGIN:VEVENT
DTSTART:20260520T160000Z
DTEND:20260520T170000Z
LOCATION:Theodorskirche\, Theodorskirchplatz 5\, 4058 Basel
TRANSP:OPAQUE
SEQUENCE:0
UID:209289-veranstaltung@erk-bs.ch
DTSTAMP:20260420T144120Z
DESCRIPTION:Eine musikalische und literarische Begegnung mit dem Basler
  Münsterorganisten Benedict Jucker.\n\n\n\nKontakt: Dr. Nicoleta
  Paraschivescu\n\nWeitere Infos:
  https://www.erk-bs.ch/veranstaltung/209289
SUMMARY:UMSTEIGEN - Ein Basler Romantiker
PRIORITY:5
X-MICROSOFT-CDO-IMPORTANCE:1
CLASS:PUBLIC
END:VEVENT
END:VCALENDAR
