BEGIN:VCALENDAR
PRODID:-//kirchenweb.ch gmbh//veranstaltungsausgabe v2.0//DE
VERSION:2.0
METHOD:PUBLISH
BEGIN:VEVENT
DTSTART:20260610T160000Z
DTEND:20260610T170000Z
LOCATION:Theodorskirche\, Theodorskirchplatz 5\, 4058 Basel
TRANSP:OPAQUE
SEQUENCE:0
UID:209290-veranstaltung@erk-bs.ch
DTSTAMP:20260420T144442Z
DESCRIPTION:Der Chor bâlcanto unter der Leitung von Marie-Odile Vigreux
  singt Werke von Charles Villiers Stanford und Fanny Hensel-Mendelssohn
  und trifft dabei auf Texte von Johann Peter Hebel\, dessen Tod sich
  dieses Jahr zum zweihundertsten mal jährt. Lesung. Nicole Strate. \n\n\n
 \nKontakt: Dr. Nicoleta Paraschivescu\n\nWeitere Infos:
  https://www.erk-bs.ch/veranstaltung/209290
SUMMARY:UMSTEIGEN - Tag und Nacht
PRIORITY:5
X-MICROSOFT-CDO-IMPORTANCE:1
CLASS:PUBLIC
END:VEVENT
END:VCALENDAR
