BEGIN:VCALENDAR
PRODID:-//kirchenweb.ch gmbh//veranstaltungsausgabe v2.0//DE
VERSION:2.0
METHOD:PUBLISH
BEGIN:VEVENT
DTSTART:20260812T160000Z
DTEND:20260812T170000Z
LOCATION:Theodorskirche\, Theodorskirchplatz 5\, 4058 Basel
TRANSP:OPAQUE
SEQUENCE:0
UID:209291-veranstaltung@erk-bs.ch
DTSTAMP:20260416T091155Z
DESCRIPTION:Das Silencio Tango Orchestra unter der Leitung von Roger Helou
  spielt Werke von Astor Piazolla und Julian Plaza. Passend dazu liest
  Franziska Kuhn Texte der argentinische Schriftsteller Jose Luis Borges\,
  Fabian Casas und V. San Clemente.\nIm Anschluss findet ein Apéro statt. 
 \n\n\nKontakt: Dr. Nicoleta Paraschivescu\n\nWeitere Infos:
  https://www.erk-bs.ch/veranstaltung/209291
SUMMARY:UMSTEIGEN - The Golden Age of Tango
PRIORITY:5
X-MICROSOFT-CDO-IMPORTANCE:1
CLASS:PUBLIC
END:VEVENT
END:VCALENDAR
