BEGIN:VCALENDAR
PRODID:-//kirchenweb.ch gmbh//veranstaltungsausgabe v2.0//DE
VERSION:2.0
METHOD:PUBLISH
BEGIN:VEVENT
DTSTART:20260909T160000Z
DTEND:20260909T170000Z
LOCATION:Theodorskirche\, Theodorskirchplatz 5\, 4058 Basel
TRANSP:OPAQUE
SEQUENCE:0
UID:209292-veranstaltung@erk-bs.ch
DTSTAMP:20260416T091815Z
DESCRIPTION:Ein heiterer Feierabend mit viel Sonne im Ohr - und den
  Cantuccini - vier a capella. Ganz weltlich gibt es Songs der Beatles\,
  von Patent Ochsner\, Sting und Arthur Beul zu hören\n\n\n\nKontakt: Dr.
  Nicoleta Paraschivescu\n\nWeitere Infos:
  https://www.erk-bs.ch/veranstaltung/209292
SUMMARY:UMSTEIGEN - Here Comes the Sun
PRIORITY:5
X-MICROSOFT-CDO-IMPORTANCE:1
CLASS:PUBLIC
END:VEVENT
END:VCALENDAR
