BEGIN:VCALENDAR
PRODID:-//kirchenweb.ch gmbh//veranstaltungsausgabe v2.0//DE
VERSION:2.0
METHOD:PUBLISH
BEGIN:VEVENT
DTSTART:20261014T160000Z
DTEND:20261014T170000Z
LOCATION:Theodorskirche\, Theodorskirchplatz 5\, 4058 Basel
TRANSP:OPAQUE
SEQUENCE:0
UID:209293-veranstaltung@erk-bs.ch
DTSTAMP:20260416T095322Z
DESCRIPTION:Zwischen Carpe Diem und Memento Mori\nAus Anlass des 350.
  Todestages von Paul Gerhardt\, einem der bedeutendsten deutschsprachigen
  Kirchenlieddichter\, singt das Vokalensemble I Sestini Basel Vertonungen
  seiner Texte von Heinrich Schütz\, Johann Hermann Schein und Hugo
  Distler. Dazu liest Philipp Roth Texte von Catharina Regina Greiffenberg
  und Andreas Gryphius.\nAnschliessend findet ein Apéro statt.\n\n\n
 \nKontakt: Dr. Nicoleta Paraschivescu\n\nWeitere Infos:
  https://www.erk-bs.ch/veranstaltung/209293
SUMMARY:UMSTEIGEN - 350 Jahre Paul Gerhardt
PRIORITY:5
X-MICROSOFT-CDO-IMPORTANCE:1
CLASS:PUBLIC
END:VEVENT
END:VCALENDAR
