BEGIN:VCALENDAR
PRODID:-//kirchenweb.ch gmbh//veranstaltungsausgabe v2.0//DE
VERSION:2.0
METHOD:PUBLISH
BEGIN:VEVENT
DTSTART:20261111T170000Z
DTEND:20261111T180000Z
LOCATION:Theodorskirche\, Theodorskirchplatz 5\, 4058 Basel
TRANSP:OPAQUE
SEQUENCE:0
UID:209294-veranstaltung@erk-bs.ch
DTSTAMP:20260416T093705Z
DESCRIPTION:Frieden ist ein Sonderfall\nDas Ensemble La Flordiana spielt
  und singt der Leitung von Nicoleta Paraschivescu Werke von Antonio
  Vivaldi und Mariana Martines. Judith Wipfler liest aus Texten von Karl
  Barth\, Jehuda Amichai\, Dorothea Sölle und Abraham Joshua Henschel\n\n
 \n\n\nKontakt: Dr. Nicoleta Paraschivescu\n\nWeitere Infos:
  https://www.erk-bs.ch/veranstaltung/209294
SUMMARY:UMSTEIGEN - Nulla in mundo pax sincera
PRIORITY:5
X-MICROSOFT-CDO-IMPORTANCE:1
CLASS:PUBLIC
END:VEVENT
END:VCALENDAR
