BEGIN:VCALENDAR
PRODID:-//kirchenweb.ch gmbh//veranstaltungsausgabe v2.0//DE
VERSION:2.0
METHOD:PUBLISH
BEGIN:VEVENT
DTSTART:20260324T180000Z
DTEND:20260324T200000Z
LOCATION:Zwinglihaus\, Gundeldingerstrasse 370\, 4053 Basel
TRANSP:OPAQUE
SEQUENCE:0
UID:209686-veranstaltung@erk-bs.ch
DTSTAMP:20260304T105418Z
DESCRIPTION:Abend anlässlich der Aktionswoche gegen Rassismus zu
  «Erinnern\, vergessen\, verdrängen – wie Gedenken und Geschichte
  spalten» \nIm Juli 2025 wurde des Völkermords von Srebrenica vor 30
  Jahren gedacht\, im Jahr 2026 jährt sich 9/11 zum 25. Mal. Welche
  Zugänge zum kollektiven Erinnern haben sich etabliert? Der Workshop
  befasst sich mit solchen Zugängen. Erinnerungskultur prägt Schule\,
  Museen\, Denkmäler und öffentliche Gedenkanlässe – doch nicht alle
  Stimmen finden darin Platz. Oftmals bleiben marginalisierte Geschichten
  unsichtbar\, während dominante Narrative Zugehörigkeit definieren und
  zugleich Grenzen ziehen. Wie kann eine sensible\, offene
  Erinnerungspraxis im Unterricht und in der zivilgesellschaftlichen Arbeit
  gefördert werden?\n\nMit: Hannan Salamat\, Kultur- und
  Religionswissenschaftlerin ZIID (Zürcher Institut für Interreligiösen
  Dialog\n\nEintritt: CHF 20.—\n\nAnmeldung: bis 17. März 2026 an das
  FORUM\, info@forumbasel.ch\n\nTeilnahme: beschränkt\n\nIn Kooperation
  mit: Basler Muslim Kommission; Christlich-Jüdische Projekte; Fachstelle
  Bildung und Diversität ERK BL\n\nKontakt: Andreas Möri\n\nWeitere
  Infos: https://www.erk-bs.ch/veranstaltung/209686
SUMMARY:FORUM Workshop: Kollektives Erinnern
PRIORITY:5
X-MICROSOFT-CDO-IMPORTANCE:1
CLASS:PUBLIC
END:VEVENT
END:VCALENDAR
