BEGIN:VCALENDAR
PRODID:-//kirchenweb.ch gmbh//veranstaltungsausgabe v2.0//DE
VERSION:2.0
METHOD:PUBLISH
BEGIN:VEVENT
DTSTART:20260428T170000Z
DTEND:20260428T190000Z
LOCATION:Zwinglihaus\, Gundeldingerstrasse 370\, 4053 Basel
TRANSP:OPAQUE
SEQUENCE:0
UID:209692-veranstaltung@erk-bs.ch
DTSTAMP:20260423T122744Z
DESCRIPTION:Programmänderung: Der für den Vortrag ursprünglich
  angekündigte Ethiker Peter G. Kirchschläger ist unvorhergesehen
  verhindert. An seiner Stelle wird Alexandra Kaiser-Duliba\, Theologin und
  Lehrbeauftragte am Institut für Sozialethik ISE der Theologischen
  Fakultät Luzern\, zum Thema «künstliche Intelligenz (KI)» 
  referieren.\n\nSogenannte «künstliche Intelligenz (KI)» – besser als
  «datenbasierte Systeme (DS)» zu bezeichnen\, da es sich bei diesen
  Maschinen nicht wirklich um Intelligenz handelt – eröffnet ethische
  Chancen und Risiken. Was sollen wir tun? Diese Frage ist entscheidend\,
  denn nicht jeder technologischer Fortschritt ist ethisch positiv.
  Basierend auf meiner Forschung würde ich vorschlagen\, dass wir
  menschenrechtsbasierte DS vorantreiben sollten. Zur Durchsetzung dieser
  menschenrechtsbasierten globalen Regulierung von DS sollten wir zudem
  eine Internationale Agentur für datenbasierte Systeme (DS) bei der UNO
  schaffen.\n\nMit: Alexandra Kaiser-Duliba\, Dr. theol.\, Oberassistentin
  und Lehrbeauftragte am Institut für Sozialethik ISE der Theologischen
  Fakultät/Universität Luzern \n\nEintritt: frei\, Kollekte\n\nIn
  Kooperation mit: Leonhards-Club\n\n\nKontakt: Regula Tanner\n\nWeitere
  Infos: https://www.erk-bs.ch/veranstaltung/209692
SUMMARY:Alexandra Kaiser-Duliba: «KI» – was sollen wir tun? Eine
  ethische Analyse
PRIORITY:5
X-MICROSOFT-CDO-IMPORTANCE:1
CLASS:PUBLIC
END:VEVENT
END:VCALENDAR
