BEGIN:VCALENDAR
PRODID:-//kirchenweb.ch gmbh//veranstaltungsausgabe v2.0//DE
VERSION:2.0
METHOD:PUBLISH
BEGIN:VEVENT
DTSTART:20260506T170000Z
DTEND:20260506T190000Z
LOCATION:Zwinglihaus\, Gundeldingerstrasse 370\, 4053 Basel
TRANSP:OPAQUE
SEQUENCE:0
UID:209696-veranstaltung@erk-bs.ch
DTSTAMP:20260323T084112Z
DESCRIPTION:Ein Abend von religionen_lokal «Menschen im Gespräch» mit:
  Aysegül Avcik-Karaaslan\, Gesellschafts- und Nahostwissenschaftlerin;
  Leyla Yildiz-Albayrak\, Kulturvereinigung der Aleviten und Bektaschi;
  Peter Bollag\, Christlich-Jüdische Projekte\n\nDie Welt scheint
  bisweilen verrückt. Gewissheiten vom Vortag gelten plötzlich nicht
  mehr. Wer kann noch wem vertrauen? Angesichts solcher Verunsicherung
  wollen wir nach dem Beitrag von Religionen zur Vertrauensbildung fragen.
  Vertrauen ist ein grundreligiöses Thema. Wie wird Vertrauen in den
  heiligen Schriften und im gelebten Glauben begründet? Inwiefern sind
  religiöse Gründe zu vertrauen in der heutigen Weltlage plausibel und
  anschlussfähig?\n\nDrei Kurzreferate stellen Perspektiven aus dem
  Judentum\, Islam und Alevitentum vor. Anschliessend sind die
  Teilnehmenden eingeladen\, eigene Gedanken und Erfahrungen einzubringen. 
  Eingeladen sind alle Interessierten – unabhängig von ihrer religiösen
  Zugehörigkeit.\n\nModeration: Andreas Möri und Regula Tanner\,
  Studienleitung Forum für Zeitfragen\n\nEintritt: frei\, Kollekte \n\nIn
  Kooperation mit: Basler Muslim Kommission; Christlich-Jüdische Projekte;
  Kirchgemeinde Gundeldingen-Bruderholz; Kulturvereinigung der Aleviten und
  Bektaschi\n\nKontakt: Andreas Möri\n\nWeitere Infos:
  https://www.erk-bs.ch/veranstaltung/209696
SUMMARY:FORUM Update Religion: Vertrauen
PRIORITY:5
X-MICROSOFT-CDO-IMPORTANCE:1
CLASS:PUBLIC
END:VEVENT
END:VCALENDAR
