BEGIN:VCALENDAR
PRODID:-//kirchenweb.ch gmbh//veranstaltungsausgabe v2.0//DE
VERSION:2.0
METHOD:PUBLISH
BEGIN:VEVENT
DTSTART:20260423T170000Z
DTEND:20260423T193000Z
LOCATION:Gellertkirche\, Christoph Merian-Platz 5\, 4052 Basel
TRANSP:OPAQUE
SEQUENCE:0
UID:209772-veranstaltung@erk-bs.ch
DTSTAMP:20250902T150804Z
DESCRIPTION:ALPHALIVE IST EINE SERIE VON RUND 10 INTERAKTIVEN TREFFEN
  ÜBER DIE GRUNDLAGEN DES CHRISTLICHEN GLAUBENS.\nBei Alphalive zählt
  jede Meinung und Diskussionen finden in einer freundlichen\, ehrlichen
  und informellen Atmosphäre statt. Diskutiere auch du deine Fragen bei
  Alphalive!\nAlphalive ist für jede und jeden: Für Entdecker\,
  Neugierige\, Kritische und Fragende! \nAn einem typischen Treffen gibts
  ein feines Nachtessen\, Austausch\, Dessert und einen Input über den
  christlichen Glauben!\n\nKontakt: Pfr. Dominik Reifler\n\nWeitere Infos:
  https://www.erk-bs.ch/veranstaltung/209772
SUMMARY:Alphalive
PRIORITY:5
X-MICROSOFT-CDO-IMPORTANCE:1
CLASS:PUBLIC
END:VEVENT
END:VCALENDAR
