BEGIN:VCALENDAR
PRODID:-//kirchenweb.ch gmbh//veranstaltungsausgabe v2.0//DE
VERSION:2.0
METHOD:PUBLISH
BEGIN:VEVENT
DTSTART:20260428T060000Z
DTEND:20260428T090000Z
LOCATION:Zwinglihaus\, Gundeldingerstrasse 370\, 4053 Basel
TRANSP:OPAQUE
SEQUENCE:0
UID:210472-veranstaltung@erk-bs.ch
DTSTAMP:20250415T075234Z
DESCRIPTION:Kontakt: Armin Marggraf\n\nWeitere Infos:
  https://www.erk-bs.ch/veranstaltung/210472
SUMMARY:Tischlein deck Dich
PRIORITY:5
X-MICROSOFT-CDO-IMPORTANCE:1
CLASS:PUBLIC
END:VEVENT
END:VCALENDAR
