BEGIN:VCALENDAR
PRODID:-//kirchenweb.ch gmbh//veranstaltungsausgabe v2.0//DE
VERSION:2.0
METHOD:PUBLISH
BEGIN:VEVENT
DTSTART:20260427T173000Z
DTEND:20260427T183000Z
LOCATION:Peterskirche\, Peterskirchplatz 7\, 4051 Basel
TRANSP:OPAQUE
SEQUENCE:0
UID:211260-veranstaltung@erk-bs.ch
DTSTAMP:20260203T183620Z
DESCRIPTION:Die dynamischen Bilder des Sandmalers Frank Bigler und die
  emotionalen Klänge der Organistin Alina Wyer sorgen für ein einmaliges
  Konzerterlebnis. Die Aufführung der „Bilder einer Ausstellung“ in
  einer Orgelfassung bildet einen Höhepunkt dieser Konzertsaison. Die
  Musik von Mussorgsky wird der Sandmaler in Echtzeit in überraschenden
  Bildern darstellen.\n\nEs gibt Melodien\, die man sofort erkennt\, ganz
  egal\, mit welchen Instrumenten sie gespielt werden. Dazu zählt
  zweifelsohne die „Promenade“ von Modest Mussorgsky: der Komponist
  spaziert durch eine Ausstellung und lässt sich von fantastischen
  Gestalten wie Szenen aus dem alltäglichen Leben zur Musik inspirieren.
  Die Idee seines berühmten Zyklus ist aber viel tiefgründiger\, als die
  einer blossen Ansammlung von Charakterstücken: sie gleicht einer
  Lebensreise; sie geht durch verschiedene Länder und ist reich an
  vielfältigen Ereignissen und Begegnungen. Und am Schluss öffnet sich
  ein goldenes Tor zu einer anderen Welt.\n\nWerke von Bach\, Mendelssohn
  und Mussorgsky.\nEintritt frei\, Kollekte\n\nWeitere Informationen unter
  www.orgelmusik-stpeter.ch\n\nKontakt: Ekaterina Kofanova\n\nWeitere
  Infos: https://www.erk-bs.ch/veranstaltung/211260
SUMMARY:Klangmalerei trifft auf Sandmalerei
PRIORITY:5
X-MICROSOFT-CDO-IMPORTANCE:1
CLASS:PUBLIC
END:VEVENT
END:VCALENDAR
