BEGIN:VCALENDAR
PRODID:-//kirchenweb.ch gmbh//veranstaltungsausgabe v2.0//DE
VERSION:2.0
METHOD:PUBLISH
BEGIN:VEVENT
DTSTART:20260622T173000Z
DTEND:20260622T183000Z
LOCATION:Peterskirche\, Peterskirchplatz 7\, 4051 Basel
TRANSP:OPAQUE
SEQUENCE:0
UID:211262-veranstaltung@erk-bs.ch
DTSTAMP:20260202T153712Z
DESCRIPTION:Christoph Gisin (Trompete\, Alphorn\, Schofar) und Ilja
  Völlmy Kudryavtsev (Orgel)  spielen ein Programm\, das Gegensätze
  vereint: Die Königin der Instrumente trifft auf die majestätische
  Trompete\, das Alphorn und den Schofar – Instrumente zwischen Kirche\,
  Konzertsaal\, Alpenlandschaft und uralter Ritualtradition.\n
 \nImprovisationen\, traditionelle Melodien und Werke der Musikliteratur
  formen gemeinsam ein Klangbild von grosser Bandbreite. Die beiden Musiker
  gestalten einen musikalischen Dialog\, der Grenzen überschreitet –
  zwischen Kulturen\, Zeiten und Ausdrucksformen – getragen von der
  einzigartigen Akustik des Kirchenraums.\nEin Konzert\, das den Raum der
  Peterskirche zum Mitschwingen bringt und die Verbindung von Himmel und
  Erde hörbar werden lässt.\n\nEintritt frei\, Kollekte\nWeitere
  Informationen unter www.orgelmusik-stpeter.ch\n\nKontakt: Ekaterina
  Kofanova\n\nWeitere Infos: https://www.erk-bs.ch/veranstaltung/211262
SUMMARY:Himmel und Erde – Musik zwischen Raum und Resonanz: Konzert zum
  Auftakt des 32. Eidgenössischen Jodlerfests
PRIORITY:5
X-MICROSOFT-CDO-IMPORTANCE:1
CLASS:PUBLIC
END:VEVENT
END:VCALENDAR
