BEGIN:VCALENDAR
PRODID:-//kirchenweb.ch gmbh//veranstaltungsausgabe v2.0//DE
VERSION:2.0
METHOD:PUBLISH
BEGIN:VEVENT
DTSTART:20260817T173000Z
DTEND:20260817T183000Z
LOCATION:Peterskirche\, Peterskirchplatz 7\, 4051 Basel
TRANSP:OPAQUE
SEQUENCE:0
UID:211263-veranstaltung@erk-bs.ch
DTSTAMP:20260202T155739Z
DESCRIPTION:Die Via Claudia war lange Zeit eine wichtige
  Verbindungsstrasse durch die Alpen. In seinem gleichnamigen Stück lässt
  der deutsche Organist\, Pianist und Komponist Jürgen Geiger in fünf
  Stimmungsbildern ihre bewegte Geschichte Revue passieren – römische
  Legionen\, rauschende Volksfeste\, eine Bergidylle und ganz viele
  Begegnungen. Auch das übrige Programm gleicht einer Raum- und Zeitreise.
  \nEs erklingt Musik von Bach\, der selber nie eine Auslandsreise
  unternahm\, von Mendelssohn\, der hingegen viel gereist war und von
  seinen Aufenthalten in der Schweiz besonders schwärmte. Hinzu kommen
  Transkriptionen des berühmten „Ave verum“ von Mozart und einigen
  Klavierwerken von Sergei Rachmaninoff.\n\nJürgen Geiger ist  1976
  geboren und wuchs in einer musikalischen Familie  im  bayerischen
  Pfaffenwinkel auf. Er studierte an der Staatlichen Hochschule für Musik
  und Theater in München und legte das Konzertexamen im Fach Klavier in
  der Klasse von Michael Schäfer ab. Zugleich erwarb er Konzertdiplome in
  den Fächern Orgel und Orgelimprovisation. Seit 2001 wirkt er als
  Kirchenmusiker in München und in Weilheim und konzertiert auf
  internationalen Podien als Pianist und  Organist\, so in den
  Philharmonien von Berlin\, Köln und München\, in der Elbphilharmonie in
  Hamburg und im Auditorio de Tenerife\, auf Orgeln und in
  Kammermusikvereinigungen in England\, Spanien\, Italien\, Frankreich.
  Geiger beherrscht Klavier und Orgel mit grosser Kunst\, es gibt kaum
  Grenzen für seine im Lauf der Jahre gereifte Virtuosität. Dabei
  verfügt er nicht nur über eine stupende technische Geläufigkeit\,
  sondern auch über Einfühlungskraft und Sensibilität.\n\nEintritt
  frei\, Kollekte\nWeitere Informationen unter www.orgelmusik-stpeter.ch\n
 \nKontakt: Ekaterina Kofanova\n\nWeitere Infos:
  https://www.erk-bs.ch/veranstaltung/211263
SUMMARY:ORGEL PUR: eine musikalische Reise durch Raum und Zeit
PRIORITY:5
X-MICROSOFT-CDO-IMPORTANCE:1
CLASS:PUBLIC
END:VEVENT
END:VCALENDAR
