BEGIN:VCALENDAR
PRODID:-//kirchenweb.ch gmbh//veranstaltungsausgabe v2.0//DE
VERSION:2.0
METHOD:PUBLISH
BEGIN:VEVENT
DTSTART:20260921T173000Z
DTEND:20260921T183000Z
LOCATION:Peterskirche\, Peterskirchplatz 7\, 4051 Basel
TRANSP:OPAQUE
SEQUENCE:0
UID:211264-veranstaltung@erk-bs.ch
DTSTAMP:20260202T155720Z
DESCRIPTION:Im Programm «Der Klang des Unsichtbaren» wird von Frauen
  komponierte Musik durch ein Ensemble bestehend aus Frauenstimmen und
  einer Organistin zum Klingen gebracht.\n\nIm Laufe der Musikgeschichte
  begegnete man immer wieder Frauen\, die sich als Komponistinnen\,
  Sängerinnen\, Instrumentalistinnen in dieser sonst von Männern
  dominierten Domäne behaupten konnten. Lange blieben sie bis auf einige
  wenige Ausnahmen weitgehend unsichtbar – so könnte man das Programm
  auch «Der Klang des Unsichtbaren» nennen. Glücklicherweise verändert
  sich diese Situation heutzutage. \n\n«Der Klang des Unsichtbaren»
  vereint spirituelle Werke von Komponistinnen aus verschiedenen Ländern\,
  entstanden in den Epochen der Romantik und Moderne - mit Ausnahme des
  Gesangs von Hildegard von Bingen aus dem 12. Jahrhundert\, auf die sich
  zwei der programmierten Werke beziehen. Als Ausgangspunkt für die
  Projektidee diente das Werk der in Basel lebenden Musikerin Ioana Ilie
  «Da dona nobis pacem» für dreistimmigen Frauenchor und Klavier\,
  welches das ensemble someāl nun in einer Bearbeitung mit Orgel in
  Auftrag gegeben hat und zur Uraufführung bringen wird. \nDas Projekt
  «Der Klang des Unsichtbaren» entwickelte sich aus den Aktivitäten von
  Sylvia Nopper als Sängerin und Gesangsdozentin: dem Unterrichten
  motivierter und begabter junger Schülerinnen und Studentinnen\, dem
  Auffinden und Aufführen von Werken wenig bekannter Komponistinnen\, der
  Musik der Moderne und vor allem der Freude an der vokalen Kammermusik. 
 \nDie Besetzung variiert vom Solo-Alt über sechsstimmigen a
  cappella-Gesang bis zum vierstimmigen Frauenchor mit Orgel. Als
  Orgelsolostücke erklingen Werke der zeitgenössischen kanadischen
  Organistin und Komponistin Rachel Laurin sowie Klavierstücke von Clara
  Schumann in einer Orgelbearbeitung. \n\nAufführende:\nensemble someāl
 \nAlissa Tritella\, musikalische Leitung\nEkaterina Kofanova\, Orgel\n
 \nEintritt frei\, Kollekte\nWeitere Informationen unter
  www.orgelmusik-stpeter.ch\n\n\nKontakt: Ekaterina Kofanova\n\nWeitere
  Infos: https://www.erk-bs.ch/veranstaltung/211264
SUMMARY:Der Klang des Unsichtbaren
PRIORITY:5
X-MICROSOFT-CDO-IMPORTANCE:1
CLASS:PUBLIC
END:VEVENT
END:VCALENDAR
