BEGIN:VCALENDAR
PRODID:-//kirchenweb.ch gmbh//veranstaltungsausgabe v2.0//DE
VERSION:2.0
METHOD:PUBLISH
BEGIN:VEVENT
DTSTART:20261019T173000Z
DTEND:20261019T183000Z
LOCATION:Peterskirche\, Peterskirchplatz 7\, 4051 Basel
TRANSP:OPAQUE
SEQUENCE:0
UID:211266-veranstaltung@erk-bs.ch
DTSTAMP:20260202T160556Z
DESCRIPTION:Die faszinierende Epoche des Mittelalters wird in einem sehr
  ungewöhnlichen Dialog von ganz verschiedenen Seiten beleuchtet. \nDas
  auf das Mittelalter und die Frührenaissance spezialisierte Ensemble
  „Alta bellezza“ spielt Originalkompositionen auf historischen
  Blasinstrumenten im Einklang mit den modernsten Erkenntnissen zur
  damaligen Aufführungspraxis. In den Orgelwerken\, komponiert im 19. und
  20. Jahrhundert und inspiriert durch die monumentalen gotischen
  Kathedralen Frankreichs\, entstehen poetische Klangbilder dieser längst
  vergangenen Zeit.\n\nWerke von Binchois\, Dufay\, Machot\, Boëllmann\,
  Langlais u. a.\n\nAufführende:\n\nHanna Geisel (Schalmei\, Pommer\,
  Gaita (Dudelsack)\, Doulçaine\, Blockflöte)\nAnn Allen (Schalmei\,
  Pommer\, Doulçaine\, Blockflöte )\nAdam Bregman (Zugtrompete\,
  Posaune\, Blockflöte)\n Ekaterina Kofanova (Orgel)\n\nEintritt frei\,
  Kollekte\nWeitere Informationen unter www.orgelmusik-stpeter.ch\n
 \nKontakt: Ekaterina Kofanova\n\nWeitere Infos:
  https://www.erk-bs.ch/veranstaltung/211266
SUMMARY:Faszination Mittelalter: Musik für historische Blasinstrumente
  und Orgel
PRIORITY:5
X-MICROSOFT-CDO-IMPORTANCE:1
CLASS:PUBLIC
END:VEVENT
END:VCALENDAR
