BEGIN:VCALENDAR
PRODID:-//kirchenweb.ch gmbh//veranstaltungsausgabe v2.0//DE
VERSION:2.0
METHOD:PUBLISH
BEGIN:VEVENT
DTSTART:20251019T080000Z
DTEND:20251019T090000Z
LOCATION:Andreashaus\, Keltenweg 41\, 4125 Riehen
TRANSP:OPAQUE
SEQUENCE:0
UID:211448-veranstaltung@erk-bs.ch
DTSTAMP:20250917T085352Z
DESCRIPTION:mit anschliessendem Austausch über die Zukunft der
  Andreashaus-Gemeinde mit Pfrn. E. Dobler\n\nKontakt: Pfarrerin Marianne
  Graf-Grether\n\nWeitere Infos: https://www.erk-bs.ch/veranstaltung/211448
SUMMARY:Gottesdienst
PRIORITY:5
X-MICROSOFT-CDO-IMPORTANCE:1
CLASS:PUBLIC
END:VEVENT
END:VCALENDAR
