BEGIN:VCALENDAR
PRODID:-//kirchenweb.ch gmbh//veranstaltungsausgabe v2.0//DE
VERSION:2.0
METHOD:PUBLISH
BEGIN:VEVENT
DTSTART:20251111T133000Z
DTEND:20251111T163000Z
LOCATION:Kornfeldkirche\, \,
TRANSP:OPAQUE
SEQUENCE:0
UID:211580-veranstaltung@erk-bs.ch
DTSTAMP:20250521T082010Z
DESCRIPTION:Kontakt: maya.frei@erk-bs.ch\n\nWeitere Infos:
  https://www.erk-bs.ch/veranstaltung/211580
SUMMARY:Café Kornfeld geöffnet
PRIORITY:5
X-MICROSOFT-CDO-IMPORTANCE:1
CLASS:PUBLIC
END:VEVENT
END:VCALENDAR
