BEGIN:VCALENDAR
PRODID:-//kirchenweb.ch gmbh//veranstaltungsausgabe v2.0//DE
VERSION:2.0
METHOD:PUBLISH
BEGIN:VEVENT
DTSTART:20251020T071500Z
DTEND:20251020T081500Z
LOCATION:Kornfeldkirche\, Kornfeldstr. 51\, 4125 Riehen
TRANSP:OPAQUE
SEQUENCE:0
UID:211592-veranstaltung@erk-bs.ch
DTSTAMP:20250521T082832Z
DESCRIPTION:Mütter beten für Schulen und Kindergärten\n\nKontakt: Maya
  Frei\n\nWeitere Infos: https://www.erk-bs.ch/veranstaltung/211592
SUMMARY:Müttergebet
PRIORITY:5
X-MICROSOFT-CDO-IMPORTANCE:1
CLASS:PUBLIC
END:VEVENT
END:VCALENDAR
