BEGIN:VCALENDAR
PRODID:-//kirchenweb.ch gmbh//veranstaltungsausgabe v2.0//DE
VERSION:2.0
METHOD:PUBLISH
BEGIN:VEVENT
DTSTART:20251013T160000Z
DTEND:20251013T170000Z
LOCATION:Kornfeldkirche\, Kornfeldstr. 51\, 4125 Riehen
TRANSP:OPAQUE
SEQUENCE:0
UID:211608-veranstaltung@erk-bs.ch
DTSTAMP:20250521T083214Z
DESCRIPTION:ab 8 Jahren\n\nKontakt: Maya Frei\n\nWeitere Infos:
  https://www.erk-bs.ch/veranstaltung/211608
SUMMARY:Jigitas: Tanzgruppe für Mädchen ab 8 Jahren
PRIORITY:5
X-MICROSOFT-CDO-IMPORTANCE:1
CLASS:PUBLIC
END:VEVENT
END:VCALENDAR
