BEGIN:VCALENDAR
PRODID:-//kirchenweb.ch gmbh//veranstaltungsausgabe v2.0//DE
VERSION:2.0
METHOD:PUBLISH
BEGIN:VEVENT
DTSTART:20251118T110000Z
DTEND:20251118T120000Z
LOCATION:Pfarrkapelle\, \,
TRANSP:OPAQUE
SEQUENCE:0
UID:211728-veranstaltung@erk-bs.ch
DTSTAMP:20250527T091732Z
DESCRIPTION:Eine kurze Zeit des gemeinsamen Gebets für den Frieden in
  Israel und in der Welt\n\nKontakt: dan.holder@erk-bs.ch\n\nWeitere Infos:
  https://www.erk-bs.ch/veranstaltung/211728
SUMMARY:Friedensgebet
PRIORITY:5
X-MICROSOFT-CDO-IMPORTANCE:1
CLASS:PUBLIC
END:VEVENT
END:VCALENDAR
