BEGIN:VCALENDAR
PRODID:-//kirchenweb.ch gmbh//veranstaltungsausgabe v2.0//DE
VERSION:2.0
METHOD:PUBLISH
BEGIN:VEVENT
DTSTART:20251112T110000Z
DTEND:20251112T120000Z
LOCATION:Baslerhof Bettingen\, Brohegasse 6\, 4126 Bettingen
TRANSP:OPAQUE
SEQUENCE:0
UID:211817-veranstaltung@erk-bs.ch
DTSTAMP:20250529T122553Z
DESCRIPTION:Der Mittagstisch ist ein wöchentlicher Ort der Begegnung für
  Erwachsene. Er findet jeden Mittwoch im Restaurant Baslerhof statt\, wo
  wir zum Sonderpreis von CHF 23 ein Dreigangmenu mit Brot\, Mineralwasser
  und Kaffee bekommen. \nEs besteht die Möglichkeit\, sich regelmässig
  oder zu einzelnen Anlässen für das Mittagessen anzumelden. Ein
  Telefonanruf an eine der untenstehenden Nummern bis jeweils Dienstag
  Mittag genügt! Bezahlt wird jedes Mal in bar direkt beim Mittagstisch. 
 \n\n\nKontakt: Trudy Volkart\, Tel. 061 601 79 86 \n\n\n\nWeitere Infos:
  https://www.erk-bs.ch/veranstaltung/211817
SUMMARY:Senioren Mittagstisch in Bettingen
PRIORITY:5
X-MICROSOFT-CDO-IMPORTANCE:1
CLASS:PUBLIC
END:VEVENT
END:VCALENDAR
