BEGIN:VCALENDAR
PRODID:-//kirchenweb.ch gmbh//veranstaltungsausgabe v2.0//DE
VERSION:2.0
METHOD:PUBLISH
BEGIN:VEVENT
DTSTART:20251016T060000Z
DTEND:20251016T140000Z
LOCATION:Andreashaus\, Keltenweg 41\, 4125 Riehen
TRANSP:OPAQUE
SEQUENCE:0
UID:212184-veranstaltung@erk-bs.ch
DTSTAMP:20250603T075327Z
DESCRIPTION:Kontakt: greg.bohny@erk-bs.ch\n\nWeitere Infos:
  https://www.erk-bs.ch/veranstaltung/212184
SUMMARY:Kleiderbörse im Andreashaus
PRIORITY:5
X-MICROSOFT-CDO-IMPORTANCE:1
CLASS:PUBLIC
END:VEVENT
END:VCALENDAR
