BEGIN:VCALENDAR
PRODID:-//kirchenweb.ch gmbh//veranstaltungsausgabe v2.0//DE
VERSION:2.0
METHOD:PUBLISH
BEGIN:VEVENT
DTSTART:20251111T080000Z
DTEND:20251111T101500Z
LOCATION:Andreashaus\, Keltenweg 41\, 4125 Riehen
TRANSP:OPAQUE
SEQUENCE:0
UID:212319-veranstaltung@erk-bs.ch
DTSTAMP:20250603T082318Z
DESCRIPTION:Kontakt: Simeon Eugster\n\nWeitere Infos:
  https://www.erk-bs.ch/veranstaltung/212319
SUMMARY:Deutschkurs - SZ
PRIORITY:5
X-MICROSOFT-CDO-IMPORTANCE:1
CLASS:PUBLIC
END:VEVENT
END:VCALENDAR
