BEGIN:VCALENDAR
PRODID:-//kirchenweb.ch gmbh//veranstaltungsausgabe v2.0//DE
VERSION:2.0
METHOD:PUBLISH
BEGIN:VEVENT
DTSTART:20251015T064500Z
DTEND:20251015T083000Z
LOCATION:Meierhof\, Kirchplatz 7\, 4125 Riehen
TRANSP:OPAQUE
SEQUENCE:0
UID:212475-veranstaltung@erk-bs.ch
DTSTAMP:20250603T155953Z
DESCRIPTION:Kontakt: Kristina Molnar\n\nWeitere Infos:
  https://www.erk-bs.ch/veranstaltung/212475
SUMMARY:Lesegruppe Sternstunden im Alltag
PRIORITY:5
X-MICROSOFT-CDO-IMPORTANCE:1
CLASS:PUBLIC
END:VEVENT
END:VCALENDAR
