BEGIN:VCALENDAR
PRODID:-//kirchenweb.ch gmbh//veranstaltungsausgabe v2.0//DE
VERSION:2.0
METHOD:PUBLISH
BEGIN:VEVENT
DTSTART:20261111T161500Z
DTEND:20261111T171500Z
LOCATION:Titus Kirche\, Im tiefen Boden 75\, 4059 Basel
TRANSP:OPAQUE
SEQUENCE:0
UID:212802-veranstaltung@erk-bs.ch
DTSTAMP:20250617T124826Z
DESCRIPTION:Kontakt: Laurence Thom\n\nWeitere Infos:
  https://www.erk-bs.ch/veranstaltung/212802
SUMMARY:Laternenumzug
PRIORITY:5
X-MICROSOFT-CDO-IMPORTANCE:1
CLASS:PUBLIC
END:VEVENT
END:VCALENDAR
