BEGIN:VCALENDAR
PRODID:-//kirchenweb.ch gmbh//veranstaltungsausgabe v2.0//DE
VERSION:2.0
METHOD:PUBLISH
BEGIN:VEVENT
DTSTART:20251113T180000Z
DTEND:20251113T210000Z
LOCATION:Kirche Bettingen\, Brohegasse 3\, 4126 Bettingen
TRANSP:OPAQUE
SEQUENCE:0
UID:212869-veranstaltung@erk-bs.ch
DTSTAMP:20250618T155840Z
DESCRIPTION:Teenieclub Bettingen-Chrischona\n\nErlebst Du gerne zusammen
  mit anderen Teenies tolle Sachen und bist auch mal für eine spontane
  Aktion zu haben?! \nDann könnte der TC (Teenieclub) genau das richtige
  für Dich sein!\n\nZusammen wollen wir unterwegs sein\, gemütlich
  herumhängen\, einen Film anschauen\, Ausflüge machen und über aktuelle
  Fragen austauschen.\n\nIm TC kannst Du mehr über den christlichen
  Glauben erfahren und Gott kennenlernen.\n\nWir treffen uns in der Regel
  vierzehntäglich donnerstags von 19:00 Uhr bis\n21:30 Uhr in der Kirche
  Bettingen.\n\nEingeladen sind alle ab 12 Jahren. Nun freue ich mich auf
  DICH!\n\nBei Fragen melde dich einfach bei mir.\n\nVanessa Habermann\n
 \nKontakt: Vanessa Habermann\n\nWeitere Infos:
  https://www.erk-bs.ch/veranstaltung/212869
SUMMARY:Teenieclub Bettingen-Chrischona
PRIORITY:5
X-MICROSOFT-CDO-IMPORTANCE:1
CLASS:PUBLIC
END:VEVENT
END:VCALENDAR
