BEGIN:VCALENDAR
PRODID:-//kirchenweb.ch gmbh//veranstaltungsausgabe v2.0//DE
VERSION:2.0
METHOD:PUBLISH
BEGIN:VEVENT
DTSTART:20251111T170000Z
DTEND:20251111T183000Z
LOCATION:Turnhalle Primarschule Bettingen\, Hauptstrasse 107\, 4126
  Bettingen
TRANSP:OPAQUE
SEQUENCE:0
UID:212883-veranstaltung@erk-bs.ch
DTSTAMP:20250618T160705Z
DESCRIPTION:Training U9\n\nKontakt: Severin Weiss 076 392 67 70\n\nWeitere
  Infos: https://www.erk-bs.ch/veranstaltung/212883
SUMMARY:Coyotes Bettingen (Unihockey) U9
PRIORITY:5
X-MICROSOFT-CDO-IMPORTANCE:1
CLASS:PUBLIC
END:VEVENT
END:VCALENDAR
