BEGIN:VCALENDAR
PRODID:-//kirchenweb.ch gmbh//veranstaltungsausgabe v2.0//DE
VERSION:2.0
METHOD:PUBLISH
BEGIN:VEVENT
DTSTART:20251017T160000Z
DTEND:20251017T200000Z
LOCATION:Turnhalle Primarschule Bettingen\, Hauptstrasse 107\, 4126
  Bettingen
TRANSP:OPAQUE
SEQUENCE:0
UID:212896-veranstaltung@erk-bs.ch
DTSTAMP:20250618T160900Z
DESCRIPTION:Kontakt: Severin Weiss 076 392 67 70\n\nWeitere Infos:
  https://www.erk-bs.ch/veranstaltung/212896
SUMMARY:Coyotes Bettingen (Unihockey)
PRIORITY:5
X-MICROSOFT-CDO-IMPORTANCE:1
CLASS:PUBLIC
END:VEVENT
END:VCALENDAR
