BEGIN:VCALENDAR
PRODID:-//kirchenweb.ch gmbh//veranstaltungsausgabe v2.0//DE
VERSION:2.0
METHOD:PUBLISH
BEGIN:VEVENT
DTSTART:20251114T163000Z
DTEND:20251114T180000Z
LOCATION:Eben-Ezer-Halle St.Chrischona\, Chrischonarain 212\, 4126
  Bettingen
TRANSP:OPAQUE
SEQUENCE:0
UID:212923-veranstaltung@erk-bs.ch
DTSTAMP:20250618T161317Z
DESCRIPTION:Herzliche Einladung zum Laternenumzug für Gross & Klein!\n
 \nTreffpunkt um 17.30 Uhr\nVor der Eben-Ezer-Halle\n(auf dem
  Chrischona-Campus\,\nbei Chrischonarain 212)\n\nNach dem Umzug gibt es
  noch ein gemütliches Beisammensein bei Feuerschein\, Punsch\, Glühwein
 \nund Suppe.\nDer Anlass findet bei jeder Witterung und ausschliesslich im
  Freien statt.\n\nBitte Laterne oder Räbeliechtli mitbringen!\n\n
 \nKontakt: Vanessa Habermann\n\nWeitere Infos:
  https://www.erk-bs.ch/veranstaltung/212923
SUMMARY:Laternenumzug auf St. Chrischona
PRIORITY:5
X-MICROSOFT-CDO-IMPORTANCE:1
CLASS:PUBLIC
END:VEVENT
END:VCALENDAR
