BEGIN:VCALENDAR
PRODID:-//kirchenweb.ch gmbh//veranstaltungsausgabe v2.0//DE
VERSION:2.0
METHOD:PUBLISH
BEGIN:VEVENT
DTSTART:20261203T150000Z
DTEND:20261203T153000Z
LOCATION:Münster\, Münsterplatz 9\, 4051 Basel
TRANSP:OPAQUE
SEQUENCE:0
UID:213021-veranstaltung@erk-bs.ch
DTSTAMP:20250619T084851Z
DESCRIPTION:Während einer halbstündigen Führung erfahren Sie
  Wissenswertes über die Bau- und Kirchengeschichte des Basler Münsters
  und begeben sich auf eine Entdeckungsreise durch die Jahrhunderte.
 \nwährend der Adventszeit jeweils Montag bis Freitag um 16.00 Uhr
 \nKosten: Fr 7.00\, Kinder gratis\nKeine Voranmeldung nötig.
  Teilnehmerzahl beschränkt\, mindestens zwei Personen. Besammlung am
  Münsterkiosk. Bitte beachten Sie unser aktuellen Öffnungszeiten.\n\n
 \nKontakt: Sandra Kuwartowski\n\nWeitere Infos:
  https://www.erk-bs.ch/veranstaltung/213021
SUMMARY:Kurzführungen im Advent
PRIORITY:5
X-MICROSOFT-CDO-IMPORTANCE:1
CLASS:PUBLIC
END:VEVENT
END:VCALENDAR
