BEGIN:VCALENDAR
PRODID:-//kirchenweb.ch gmbh//veranstaltungsausgabe v2.0//DE
VERSION:2.0
METHOD:PUBLISH
BEGIN:VEVENT
DTSTART:20260517T080000Z
DTEND:20260517T093000Z
LOCATION:Zwinglihaus\, Gundeldingerstrasse 370\,  Basel
TRANSP:OPAQUE
SEQUENCE:0
UID:213470-veranstaltung@erk-bs.ch
DTSTAMP:20250807T131140Z
DESCRIPTION:Gottesdienst mit Pfarrer Andreas Möri und Tiziana Fanelli\n
 \nKontakt: Pfr. Andreas Möri\n\nWeitere Infos:
  https://www.erk-bs.ch/veranstaltung/213470
SUMMARY:Gottesdienst
PRIORITY:5
X-MICROSOFT-CDO-IMPORTANCE:1
CLASS:PUBLIC
END:VEVENT
END:VCALENDAR
