BEGIN:VCALENDAR
PRODID:-//kirchenweb.ch gmbh//veranstaltungsausgabe v2.0//DE
VERSION:2.0
METHOD:PUBLISH
BEGIN:VEVENT
DTSTART:20260210T110000Z
DTEND:20260210T130000Z
LOCATION:Zwinglihaus\, \,
TRANSP:OPAQUE
SEQUENCE:0
UID:213520-veranstaltung@erk-bs.ch
DTSTAMP:20260205T081048Z
DESCRIPTION:Kontakt: sabine.buerk@erk-bs.ch\n\nWeitere Infos:
  https://www.erk-bs.ch/veranstaltung/213520
SUMMARY:Mittagstisch
PRIORITY:5
X-MICROSOFT-CDO-IMPORTANCE:1
CLASS:PUBLIC
END:VEVENT
END:VCALENDAR
