BEGIN:VCALENDAR
PRODID:-//kirchenweb.ch gmbh//veranstaltungsausgabe v2.0//DE
VERSION:2.0
METHOD:PUBLISH
BEGIN:VEVENT
DTSTART:20260623T070000Z
DTEND:20260623T150000Z
LOCATION:Tituskirche\, Im tiefen Boden 75\, 4059 Basel
TRANSP:OPAQUE
SEQUENCE:0
UID:213633-veranstaltung@erk-bs.ch
DTSTAMP:20260423T064042Z
DESCRIPTION:Tagesausflug nach Luzern\n\nAktiv: Stadtrundgang zu Fuss
 \nComfort: Fahrt mit dem Schiff auf dem See\n\nKosten: CHF 50.-\n\nTeam:
  Daniela Maurer und Pfrn. Monika Widmer\n\nKontakt: Monika Widmer\n
 \nWeitere Infos: https://www.erk-bs.ch/veranstaltung/213633
SUMMARY:Titus: Ü65 AKTIV UND COMFORT
PRIORITY:5
X-MICROSOFT-CDO-IMPORTANCE:1
CLASS:PUBLIC
END:VEVENT
END:VCALENDAR
