BEGIN:VCALENDAR
PRODID:-//kirchenweb.ch gmbh//veranstaltungsausgabe v2.0//DE
VERSION:2.0
METHOD:PUBLISH
BEGIN:VEVENT
DTSTART:20260825T110000Z
DTEND:20260825T160000Z
LOCATION:Tituskirche\, Im tiefen Boden 75\, 4059 Basel
TRANSP:OPAQUE
SEQUENCE:0
UID:213634-veranstaltung@erk-bs.ch
DTSTAMP:20260305T074954Z
DESCRIPTION:Halbtagesausflug nach Seewen ins Museum für Musikautomaten\n
 \nTeam: Daniela Maurer und Pfrn. Monika Widmer\n\nKontakt: Monika Widmer\n
 \nWeitere Infos: https://www.erk-bs.ch/veranstaltung/213634
SUMMARY:Titus: Ü65 AKTIV UND COMFORT
PRIORITY:5
X-MICROSOFT-CDO-IMPORTANCE:1
CLASS:PUBLIC
END:VEVENT
END:VCALENDAR
