BEGIN:VCALENDAR
PRODID:-//kirchenweb.ch gmbh//veranstaltungsausgabe v2.0//DE
VERSION:2.0
METHOD:PUBLISH
BEGIN:VEVENT
DTSTART:20260909T123000Z
DTEND:20260909T150000Z
LOCATION:Titus Kirche\, Im tiefen Boden 75\, 4059 Basel
TRANSP:OPAQUE
SEQUENCE:0
UID:213635-veranstaltung@erk-bs.ch
DTSTAMP:20260319T090704Z
DESCRIPTION:Jubilarenfeier\n\nEin humorvoller Nachmittag für unsere
  80/85/90/95+ Geburtstagkinder der Gemeinde (separate Einladung).\n
 \nVorbereitungsgruppe: Christine Baader\, Jean Jaques Dünki\, Daniela
  Maurer und Waldtraut Mehrhof\n\nKontakt: Monika Widmer\n\nWeitere Infos:
  https://www.erk-bs.ch/veranstaltung/213635
SUMMARY:Titus: Jubilarenfeier
PRIORITY:5
X-MICROSOFT-CDO-IMPORTANCE:1
CLASS:PUBLIC
END:VEVENT
END:VCALENDAR
